{
 "currentVersion": 11.5,
 "cimVersion": "3.5.0",
 "serviceDescription": "",
 "mapName": "Map",
 "description": "",
 "copyrightText": "",
 "supportsDynamicLayers": true,
 "layers": [
  {
   "id": 0,
   "name": "Strategic Investment Area",
   "parentLayerId": -1,
   "defaultVisibility": true,
   "subLayerIds": null,
   "minScale": 500000,
   "maxScale": 600,
   "type": "Feature Layer",
   "geometryType": "esriGeometryPolygon",
   "supportsDynamicLegends": true
  },
  {
   "id": 1,
   "name": "Airport Influence Area",
   "parentLayerId": -1,
   "defaultVisibility": true,
   "subLayerIds": null,
   "minScale": 500000,
   "maxScale": 600,
   "type": "Feature Layer",
   "geometryType": "esriGeometryPolygon",
   "supportsDynamicLegends": true
  },
  {
   "id": 2,
   "name": "Greenway Linkages",
   "parentLayerId": -1,
   "defaultVisibility": true,
   "subLayerIds": null,
   "minScale": 500000,
   "maxScale": 600,
   "type": "Feature Layer",
   "geometryType": "esriGeometryPolyline",
   "supportsDynamicLegends": true
  },
  {
   "id": 3,
   "name": "Future Transportation Plan",
   "parentLayerId": -1,
   "defaultVisibility": true,
   "subLayerIds": null,
   "minScale": 500000,
   "maxScale": 600,
   "type": "Feature Layer",
   "geometryType": "esriGeometryPolyline",
   "supportsDynamicLegends": true
  },
  {
   "id": 4,
   "name": "Future Development Character Framework",
   "parentLayerId": -1,
   "defaultVisibility": true,
   "subLayerIds": null,
   "minScale": 500000,
   "maxScale": 600,
   "type": "Feature Layer",
   "geometryType": "esriGeometryPolygon",
   "supportsDynamicLegends": true
  }
 ],
 "tables": [],
 "spatialReference": {
  "wkid": 102677,
  "latestWkid": 3419,
  "xyTolerance": 0.003280833333333333,
  "zTolerance": 0.001,
  "mTolerance": 0.001,
  "falseX": -120389200,
  "falseY": -95723100,
  "xyUnits": 3048.0060960121928,
  "falseZ": -100000,
  "zUnits": 10000,
  "falseM": -100000,
  "mUnits": 10000
 },
 "singleFusedMapCache": true,
 "tileInfo": {
  "rows": 256,
  "cols": 256,
  "dpi": 96,
  "format": "PNG24",
  "compressionQuality": 0,
  "origin": {
   "x": -120389200,
   "y": 1.4768000000000003E8
  },
  "spatialReference": {
   "wkid": 102677,
   "latestWkid": 3419,
   "xyTolerance": 0.002,
   "zTolerance": 2,
   "mTolerance": 2,
   "falseX": -120389200,
   "falseY": -95723100,
   "xyUnits": 3.700527747896797E7,
   "falseZ": 0,
   "zUnits": 1,
   "falseM": -100000,
   "mUnits": 10000
  },
  "lods": [
   {
    "level": 0,
    "resolution": 217.01388888888889,
    "scale": 250000
   },
   {
    "level": 1,
    "resolution": 69.44444444444444,
    "scale": 80000
   },
   {
    "level": 2,
    "resolution": 34.72222222222222,
    "scale": 40000
   },
   {
    "level": 3,
    "resolution": 17.36111111111111,
    "scale": 20000
   },
   {
    "level": 4,
    "resolution": 8.680555555555555,
    "scale": 10000
   },
   {
    "level": 5,
    "resolution": 4.340277777777778,
    "scale": 5000
   },
   {
    "level": 6,
    "resolution": 2.083333333333333,
    "scale": 2400
   },
   {
    "level": 7,
    "resolution": 1.0416666666666665,
    "scale": 1200
   }
  ]
 },
 "storageInfo": {
  "storageFormat": "esriMapCacheStorageModeCompactV2",
  "packetSize": 128
 },
 "initialExtent": {
  "xmin": 2212661.493260091,
  "ymin": 145565.92451623426,
  "xmax": 2329848.993260091,
  "ymax": 280288.1467384565,
  "spatialReference": {
   "wkid": 102677,
   "latestWkid": 3419,
   "xyTolerance": 0.003280833333333333,
   "zTolerance": 0.001,
   "mTolerance": 0.001,
   "falseX": -120389200,
   "falseY": -95723100,
   "xyUnits": 3048.0060960121928,
   "falseZ": -100000,
   "zUnits": 10000,
   "falseM": -100000,
   "mUnits": 10000
  }
 },
 "fullExtent": {
  "xmin": 2233815.499869615,
  "ymin": 163996.96393959224,
  "xmax": 2279369.211255431,
  "ymax": 276382.2978955209,
  "zmin": 0,
  "zmax": 0,
  "mmin": null,
  "mmax": null,
  "spatialReference": {
   "wkid": 102677,
   "latestWkid": 3419,
   "xyTolerance": 0.003280833333333333,
   "zTolerance": 0.001,
   "mTolerance": 0.001,
   "falseX": -120389200,
   "falseY": -95723100,
   "xyUnits": 3048.0060960121928,
   "falseZ": -100000,
   "zUnits": 10000,
   "falseM": -100000,
   "mUnits": 10000
  }
 },
 "datesInUnknownTimezone": false,
 "minScale": 250000,
 "maxScale": 1200,
 "minLOD": 0,
 "maxLOD": 7,
 "units": "esriFeet",
 "supportedImageFormatTypes": "PNG32,PNG24,PNG,JPG,DIB,TIFF,EMF,PS,PDF,GIF,SVG,SVGZ,BMP",
 "documentInfo": {
  "Title": "Map",
  "Author": "",
  "Comments": "",
  "Subject": "",
  "Category": "",
  "Version": "3.5.0",
  "AntialiasingMode": "Best",
  "TextAntialiasingMode": "Force",
  "Keywords": "Future_Development_Character_Framework,MapServer"
 },
 "supportsQueryDomains": true,
 "capabilities": "Map,Query,Data,TileMap",
 "supportedQueryFormats": "JSON, geoJSON, PBF",
 "exportTilesAllowed": false,
 "referenceScale": 40000.0,
 "supportsDatumTransformation": true,
 "archivingInfo": {
  "supportsHistoricMoment": false
 },
 "supportsClipping": true,
 "supportsSpatialFilter": true,
 "supportsTimeRelation": true,
 "supportsQueryDataElements": true,
 "mapUnits": {
  "uwkid": 9003
 },
 "maxSelectionCount": 2000,
 "maxRecordCount": 2000,
 "maxImageHeight": 4096,
 "maxImageWidth": 4096,
 "supportedExtensions": "",
 "resampling": false,
 "serviceItemId": "0317cec7481041e18021d56444ded335"
}
